BEGIN:VCALENDAR
VERSION:2.0
PRODID:-//Valley Bible Chapel - ECPv6.15.20//NONSGML v1.0//EN
CALSCALE:GREGORIAN
METHOD:PUBLISH
X-WR-CALNAME:Valley Bible Chapel
X-ORIGINAL-URL:https://valleybiblechapel.org
X-WR-CALDESC:Events for Valley Bible Chapel
REFRESH-INTERVAL;VALUE=DURATION:PT1H
X-Robots-Tag:noindex
X-PUBLISHED-TTL:PT1H
BEGIN:VTIMEZONE
TZID:America/New_York
BEGIN:DAYLIGHT
TZOFFSETFROM:-0500
TZOFFSETTO:-0400
TZNAME:EDT
DTSTART:20220313T070000
END:DAYLIGHT
BEGIN:STANDARD
TZOFFSETFROM:-0400
TZOFFSETTO:-0500
TZNAME:EST
DTSTART:20221106T060000
END:STANDARD
BEGIN:DAYLIGHT
TZOFFSETFROM:-0500
TZOFFSETTO:-0400
TZNAME:EDT
DTSTART:20230312T070000
END:DAYLIGHT
BEGIN:STANDARD
TZOFFSETFROM:-0400
TZOFFSETTO:-0500
TZNAME:EST
DTSTART:20231105T060000
END:STANDARD
BEGIN:DAYLIGHT
TZOFFSETFROM:-0500
TZOFFSETTO:-0400
TZNAME:EDT
DTSTART:20240310T070000
END:DAYLIGHT
BEGIN:STANDARD
TZOFFSETFROM:-0400
TZOFFSETTO:-0500
TZNAME:EST
DTSTART:20241103T060000
END:STANDARD
END:VTIMEZONE
BEGIN:VEVENT
DTSTART;TZID=America/New_York:20230601T190000
DTEND;TZID=America/New_York:20230601T210000
DTSTAMP:20260423T062641
CREATED:20230530T193414Z
LAST-MODIFIED:20230530T193414Z
UID:37455-1685646000-1685653200@valleybiblechapel.org
SUMMARY:Men's Barbecue\, Fellowship & Prayer
DESCRIPTION:When: Thursday\, June 1\nTime: 7:00 pm\nLocation: VBC\nPlan to attend to enjoy conversation and prayer with friends.
URL:https://valleybiblechapel.org/event/mens-barbecue-fellowship-prayer/
END:VEVENT
BEGIN:VEVENT
DTSTART;TZID=America/New_York:20230603T083000
DTEND;TZID=America/New_York:20230603T083000
DTSTAMP:20260423T062641
CREATED:20230515T150311Z
LAST-MODIFIED:20230515T150311Z
UID:37433-1685781000-1685781000@valleybiblechapel.org
SUMMARY:Pine Bush Camp Workdays
DESCRIPTION:When: Saturday\, June 3rd\nTime: 8:30 AM\nLocation: Pine Bush\nThere are many skilled and non-skilled tasks involved in readying camp for the summer season. If possible\, plan to serve with friends on one or both days. Lunch is provided.      
URL:https://valleybiblechapel.org/event/pine-bush-camp-workdays/
END:VEVENT
BEGIN:VEVENT
DTSTART;TZID=America/New_York:20230604T173000
DTEND;TZID=America/New_York:20230604T190000
DTSTAMP:20260423T062641
CREATED:20230515T143502Z
LAST-MODIFIED:20230515T143701Z
UID:37424-1685899800-1685905200@valleybiblechapel.org
SUMMARY:Family Movie & Fellowship Nights
DESCRIPTION:When: Sunday\, June 4th\nTime: 5:30 PM – 7:00 PM\nLocation: VBC\nAll are welcome\, bring friends! King of Glory will be shown for 30 minutes each night\, snacks and fellowship included! King of Glory is a chronological\, condensed retelling of Scripture through a mix of 3D motion-graphics\, still animation and live video with helpful narrative. More sessions will be scheduled throughout the summer. 
URL:https://valleybiblechapel.org/event/family-movie-fellowship-nights/
END:VEVENT
BEGIN:VEVENT
DTSTART;TZID=America/New_York:20230611T114500
DTEND;TZID=America/New_York:20230611T114500
DTSTAMP:20260423T062641
CREATED:20230515T150931Z
LAST-MODIFIED:20230515T150932Z
UID:37439-1686483900-1686483900@valleybiblechapel.org
SUMMARY:Potluck Lunch
DESCRIPTION:When: Sunday\, June 11th\nTime: 11:45 AM\nLocation: VBC\nBring a main dish\, side or dessert – enough to share with friends. All are welcome and encouraged to stay for lunch!
URL:https://valleybiblechapel.org/event/potluck-lunch/
END:VEVENT
BEGIN:VEVENT
DTSTART;TZID=America/New_York:20230611T173000
DTEND;TZID=America/New_York:20230611T190000
DTSTAMP:20260423T062641
CREATED:20230515T150749Z
LAST-MODIFIED:20230515T150824Z
UID:37437-1686504600-1686510000@valleybiblechapel.org
SUMMARY:Family Movie & Fellowship Nights
DESCRIPTION:When: Sunday\, June 11th\nTime: 5:30 PM – 7:00 PM\nLocation: VBC\nAll are welcome\, bring friends! King of Glory will be shown for 30 minutes each night\, snacks and fellowship included! King of Glory is a chronological\, condensed retelling of Scripture through a mix of 3D motion-graphics\, still animation and live video with helpful narrative. More sessions will be scheduled throughout the summer. 
URL:https://valleybiblechapel.org/event/family-movie-fellowship-nights-2/
END:VEVENT
BEGIN:VEVENT
DTSTART;TZID=America/New_York:20230616T193000
DTEND;TZID=America/New_York:20230616T193000
DTSTAMP:20260423T062641
CREATED:20230515T151115Z
LAST-MODIFIED:20230515T151116Z
UID:37441-1686943800-1686943800@valleybiblechapel.org
SUMMARY:Women's Dessert and Fellowship
DESCRIPTION:When: Friday\, June 16th\nTime: 7:30 PM\nLocation: VBC\nPlan to enjoy time with friends and a video teaching session on forgiveness by Vaneetha Risner. Sign Up Genius will go out. 
URL:https://valleybiblechapel.org/event/womens-dessert-and-fellowship-2/
END:VEVENT
BEGIN:VEVENT
DTSTART;TZID=America/New_York:20230626T183000
DTEND;TZID=America/New_York:20230629T201500
DTSTAMP:20260423T062641
CREATED:20230313T152619Z
LAST-MODIFIED:20230619T021237Z
UID:37344-1687804200-1688069700@valleybiblechapel.org
SUMMARY:VBS
DESCRIPTION:On-line registration is open: www.valleybiblechapel.org/vbs. Our theme this year is Keepers of the Kingdom! In a medieval setting\, as brave knights we’ll learn what Scripture teaches about the Kingdom of Light versus Darkness\, and we will be challenged to follow the King of kings! Lots of adventure awaits children from Pre-K (4 yrs old) – entering 6th grade!
URL:https://valleybiblechapel.org/event/vbs-6/
END:VEVENT
END:VCALENDAR