BEGIN:VCALENDAR
VERSION:2.0
PRODID:-//Valley Bible Chapel - ECPv6.15.20//NONSGML v1.0//EN
CALSCALE:GREGORIAN
METHOD:PUBLISH
X-WR-CALNAME:Valley Bible Chapel
X-ORIGINAL-URL:https://valleybiblechapel.org
X-WR-CALDESC:Events for Valley Bible Chapel
REFRESH-INTERVAL;VALUE=DURATION:PT1H
X-Robots-Tag:noindex
X-PUBLISHED-TTL:PT1H
BEGIN:VTIMEZONE
TZID:America/New_York
BEGIN:DAYLIGHT
TZOFFSETFROM:-0500
TZOFFSETTO:-0400
TZNAME:EDT
DTSTART:20220313T070000
END:DAYLIGHT
BEGIN:STANDARD
TZOFFSETFROM:-0400
TZOFFSETTO:-0500
TZNAME:EST
DTSTART:20221106T060000
END:STANDARD
BEGIN:DAYLIGHT
TZOFFSETFROM:-0500
TZOFFSETTO:-0400
TZNAME:EDT
DTSTART:20230312T070000
END:DAYLIGHT
BEGIN:STANDARD
TZOFFSETFROM:-0400
TZOFFSETTO:-0500
TZNAME:EST
DTSTART:20231105T060000
END:STANDARD
BEGIN:DAYLIGHT
TZOFFSETFROM:-0500
TZOFFSETTO:-0400
TZNAME:EDT
DTSTART:20240310T070000
END:DAYLIGHT
BEGIN:STANDARD
TZOFFSETFROM:-0400
TZOFFSETTO:-0500
TZNAME:EST
DTSTART:20241103T060000
END:STANDARD
END:VTIMEZONE
BEGIN:VEVENT
DTSTART;TZID=America/New_York:20230210T193000
DTEND;TZID=America/New_York:20230210T210000
DTSTAMP:20260423T122500
CREATED:20230129T235922Z
LAST-MODIFIED:20230129T235922Z
UID:37309-1676057400-1676062800@valleybiblechapel.org
SUMMARY:Youth Group
DESCRIPTION:Date: Fridays\, February 10th and 24th\nWhen: 7:30 pm – 9:00 pm\nWhere: Valley Bible Chapel
URL:https://valleybiblechapel.org/event/youth-group-11/
END:VEVENT
BEGIN:VEVENT
DTSTART;TZID=America/New_York:20230211T090000
DTEND;TZID=America/New_York:20230211T110000
DTSTAMP:20260423T122500
CREATED:20230130T000222Z
LAST-MODIFIED:20230130T000222Z
UID:37313-1676106000-1676113200@valleybiblechapel.org
SUMMARY:Men's Breakfast
DESCRIPTION:Date: Saturday\, February 11th\nWhen: 9:00 am – 11:00 am\nWhere: Valley Bible Chapel\nEnjoy fellowship with friends over a hearty meal!
URL:https://valleybiblechapel.org/event/mens-breakfast-3/
END:VEVENT
BEGIN:VEVENT
DTSTART;TZID=America/New_York:20230212T114500
DTEND;TZID=America/New_York:20230212T114500
DTSTAMP:20260423T122500
CREATED:20230130T000402Z
LAST-MODIFIED:20230130T000402Z
UID:37315-1676202300-1676202300@valleybiblechapel.org
SUMMARY:Potluck Lunch & Annual Meeting
DESCRIPTION:Date: Sunday\, February 12th\nWhen: 11:45 am\nWhere: Valley Bible Chapel\nBring a main dish\, side or dessert – enough to share with others! All are welcome and encouraged to stay for lunch. We’ll hear updates on what the Lord has been doing at and through the chapel\, and will learn what our priorities are for this year at the chapel\, Lord willing. 
URL:https://valleybiblechapel.org/event/potluck-lunch-annual-meeting/
END:VEVENT
BEGIN:VEVENT
DTSTART;TZID=America/New_York:20230224T193000
DTEND;TZID=America/New_York:20230224T210000
DTSTAMP:20260423T122500
CREATED:20230130T000034Z
LAST-MODIFIED:20230130T000034Z
UID:37311-1677267000-1677272400@valleybiblechapel.org
SUMMARY:Youth Group
DESCRIPTION:Date: Fridays\, February 10th and 24th\nWhen: 7:30 pm – 9:00 pm\nWhere: Valley Bible Chapel
URL:https://valleybiblechapel.org/event/youth-group-12/
END:VEVENT
END:VCALENDAR