BEGIN:VCALENDAR
VERSION:2.0
PRODID:-//Valley Bible Chapel - ECPv6.15.20//NONSGML v1.0//EN
CALSCALE:GREGORIAN
METHOD:PUBLISH
X-WR-CALNAME:Valley Bible Chapel
X-ORIGINAL-URL:https://valleybiblechapel.org
X-WR-CALDESC:Events for Valley Bible Chapel
REFRESH-INTERVAL;VALUE=DURATION:PT1H
X-Robots-Tag:noindex
X-PUBLISHED-TTL:PT1H
BEGIN:VTIMEZONE
TZID:America/New_York
BEGIN:DAYLIGHT
TZOFFSETFROM:-0500
TZOFFSETTO:-0400
TZNAME:EDT
DTSTART:20230312T070000
END:DAYLIGHT
BEGIN:STANDARD
TZOFFSETFROM:-0400
TZOFFSETTO:-0500
TZNAME:EST
DTSTART:20231105T060000
END:STANDARD
BEGIN:DAYLIGHT
TZOFFSETFROM:-0500
TZOFFSETTO:-0400
TZNAME:EDT
DTSTART:20240310T070000
END:DAYLIGHT
BEGIN:STANDARD
TZOFFSETFROM:-0400
TZOFFSETTO:-0500
TZNAME:EST
DTSTART:20241103T060000
END:STANDARD
BEGIN:DAYLIGHT
TZOFFSETFROM:-0500
TZOFFSETTO:-0400
TZNAME:EDT
DTSTART:20250309T070000
END:DAYLIGHT
BEGIN:STANDARD
TZOFFSETFROM:-0400
TZOFFSETTO:-0500
TZNAME:EST
DTSTART:20251102T060000
END:STANDARD
END:VTIMEZONE
BEGIN:VEVENT
DTSTART;TZID=America/New_York:20241127T193000
DTEND;TZID=America/New_York:20241127T210000
DTSTAMP:20260420T054612
CREATED:20241111T145419Z
LAST-MODIFIED:20241111T145419Z
UID:37904-1732735800-1732741200@valleybiblechapel.org
SUMMARY:Thanksgiving Eve Service
DESCRIPTION:Date: Wednesday\, November 27th\nTime: 7:30 pm\nLocation: Valley Bible Chapel
URL:https://valleybiblechapel.org/event/thanksgiving-eve-service-3/
END:VEVENT
END:VCALENDAR