BEGIN:VCALENDAR
VERSION:2.0
PRODID:-//Valley Bible Chapel - ECPv6.15.20//NONSGML v1.0//EN
CALSCALE:GREGORIAN
METHOD:PUBLISH
X-WR-CALNAME:Valley Bible Chapel
X-ORIGINAL-URL:https://valleybiblechapel.org
X-WR-CALDESC:Events for Valley Bible Chapel
REFRESH-INTERVAL;VALUE=DURATION:PT1H
X-Robots-Tag:noindex
X-PUBLISHED-TTL:PT1H
BEGIN:VTIMEZONE
TZID:America/New_York
BEGIN:DAYLIGHT
TZOFFSETFROM:-0500
TZOFFSETTO:-0400
TZNAME:EDT
DTSTART:20220313T070000
END:DAYLIGHT
BEGIN:STANDARD
TZOFFSETFROM:-0400
TZOFFSETTO:-0500
TZNAME:EST
DTSTART:20221106T060000
END:STANDARD
BEGIN:DAYLIGHT
TZOFFSETFROM:-0500
TZOFFSETTO:-0400
TZNAME:EDT
DTSTART:20230312T070000
END:DAYLIGHT
BEGIN:STANDARD
TZOFFSETFROM:-0400
TZOFFSETTO:-0500
TZNAME:EST
DTSTART:20231105T060000
END:STANDARD
BEGIN:DAYLIGHT
TZOFFSETFROM:-0500
TZOFFSETTO:-0400
TZNAME:EDT
DTSTART:20240310T070000
END:DAYLIGHT
BEGIN:STANDARD
TZOFFSETFROM:-0400
TZOFFSETTO:-0500
TZNAME:EST
DTSTART:20241103T060000
END:STANDARD
END:VTIMEZONE
BEGIN:VEVENT
DTSTART;TZID=America/New_York:20230601T190000
DTEND;TZID=America/New_York:20230601T210000
DTSTAMP:20260423T075921
CREATED:20230530T193414Z
LAST-MODIFIED:20230530T193414Z
UID:37455-1685646000-1685653200@valleybiblechapel.org
SUMMARY:Men's Barbecue\, Fellowship & Prayer
DESCRIPTION:When: Thursday\, June 1\nTime: 7:00 pm\nLocation: VBC\nPlan to attend to enjoy conversation and prayer with friends.
URL:https://valleybiblechapel.org/event/mens-barbecue-fellowship-prayer/
END:VEVENT
END:VCALENDAR