BEGIN:VCALENDAR
VERSION:2.0
PRODID:-//Valley Bible Chapel - ECPv6.15.20//NONSGML v1.0//EN
CALSCALE:GREGORIAN
METHOD:PUBLISH
X-ORIGINAL-URL:https://valleybiblechapel.org
X-WR-CALDESC:Events for Valley Bible Chapel
REFRESH-INTERVAL;VALUE=DURATION:PT1H
X-Robots-Tag:noindex
X-PUBLISHED-TTL:PT1H
BEGIN:VTIMEZONE
TZID:America/New_York
BEGIN:DAYLIGHT
TZOFFSETFROM:-0500
TZOFFSETTO:-0400
TZNAME:EDT
DTSTART:20210314T070000
END:DAYLIGHT
BEGIN:STANDARD
TZOFFSETFROM:-0400
TZOFFSETTO:-0500
TZNAME:EST
DTSTART:20211107T060000
END:STANDARD
BEGIN:DAYLIGHT
TZOFFSETFROM:-0500
TZOFFSETTO:-0400
TZNAME:EDT
DTSTART:20220313T070000
END:DAYLIGHT
BEGIN:STANDARD
TZOFFSETFROM:-0400
TZOFFSETTO:-0500
TZNAME:EST
DTSTART:20221106T060000
END:STANDARD
BEGIN:DAYLIGHT
TZOFFSETFROM:-0500
TZOFFSETTO:-0400
TZNAME:EDT
DTSTART:20230312T070000
END:DAYLIGHT
BEGIN:STANDARD
TZOFFSETFROM:-0400
TZOFFSETTO:-0500
TZNAME:EST
DTSTART:20231105T060000
END:STANDARD
END:VTIMEZONE
BEGIN:VEVENT
DTSTART;VALUE=DATE:20221112
DTEND;VALUE=DATE:20221113
DTSTAMP:20260423T184112
CREATED:20221024T141752Z
LAST-MODIFIED:20221024T141835Z
UID:37251-1668211200-1668297599@valleybiblechapel.org
SUMMARY:CMML Missions Conference
DESCRIPTION:When: Saturday\, November 12\nWhere: Allenwood\, NJ \nBe refreshed by fellowship\, and be informed of the Lord’s work abroad by hearing speakers and  ten missionary presentations.\nCMML.US/FALLCONFERENCE2022 (Zoom option available).
URL:https://valleybiblechapel.org/event/cmml-missions-conference/
END:VEVENT
BEGIN:VEVENT
DTSTART;TZID=America/New_York:20221112T090000
DTEND;TZID=America/New_York:20221112T153000
DTSTAMP:20260423T184112
CREATED:20221024T142103Z
LAST-MODIFIED:20221024T142103Z
UID:37254-1668243600-1668267000@valleybiblechapel.org
SUMMARY:Women's Conference
DESCRIPTION:When: Saturday\, November 12 @ 9:00am – 3:30pm\nWhere: Hawthorne Gospel Church\nSpeaker: Alisa Childers\nTheme: Defending the Truth \nIncludes refreshments and lunch. \nSpeak to Deb Spinelli for more information.
URL:https://valleybiblechapel.org/event/womens-conference/
END:VEVENT
END:VCALENDAR